BEGIN:VCALENDAR
VERSION:2.0
PRODID:-//FV Hengersberg e.V. - ECPv6.15.20//NONSGML v1.0//EN
CALSCALE:GREGORIAN
METHOD:PUBLISH
X-ORIGINAL-URL:https://www.fv-hengersberg.de
X-WR-CALDESC:Veranstaltungen für FV Hengersberg e.V.
REFRESH-INTERVAL;VALUE=DURATION:PT1H
X-Robots-Tag:noindex
X-PUBLISHED-TTL:PT1H
BEGIN:VTIMEZONE
TZID:Europe/Berlin
BEGIN:DAYLIGHT
TZOFFSETFROM:+0100
TZOFFSETTO:+0200
TZNAME:CEST
DTSTART:20220327T010000
END:DAYLIGHT
BEGIN:STANDARD
TZOFFSETFROM:+0200
TZOFFSETTO:+0100
TZNAME:CET
DTSTART:20221030T010000
END:STANDARD
BEGIN:DAYLIGHT
TZOFFSETFROM:+0100
TZOFFSETTO:+0200
TZNAME:CEST
DTSTART:20230326T010000
END:DAYLIGHT
BEGIN:STANDARD
TZOFFSETFROM:+0200
TZOFFSETTO:+0100
TZNAME:CET
DTSTART:20231029T010000
END:STANDARD
BEGIN:DAYLIGHT
TZOFFSETFROM:+0100
TZOFFSETTO:+0200
TZNAME:CEST
DTSTART:20240331T010000
END:DAYLIGHT
BEGIN:STANDARD
TZOFFSETFROM:+0200
TZOFFSETTO:+0100
TZNAME:CET
DTSTART:20241027T010000
END:STANDARD
END:VTIMEZONE
BEGIN:VEVENT
DTSTART;TZID=Europe/Berlin:20230625T053000
DTEND;TZID=Europe/Berlin:20230625T100000
DTSTAMP:20260423T045416
CREATED:20230113T073136Z
LAST-MODIFIED:20230113T073146Z
UID:3054-1687671000-1687687200@www.fv-hengersberg.de
SUMMARY:Vereinsinternes Jugendhegefischen
DESCRIPTION:Vereinsinternes Jugendhegefischen an der linken Donauseite \nTreffpunkt: 05:30 Uhr beim Pavillon bei der Fähre damit ihr um 06:00 Uhr zum Fischen beginnen könnt
URL:https://www.fv-hengersberg.de/event/vereinsinternes-jugendhegefischen-2/
LOCATION:Donau
CATEGORIES:Jugend
END:VEVENT
END:VCALENDAR