BEGIN:VCALENDAR
VERSION:2.0
PRODID:-//FV Hengersberg e.V. - ECPv6.15.20//NONSGML v1.0//EN
CALSCALE:GREGORIAN
METHOD:PUBLISH
X-WR-CALNAME:FV Hengersberg e.V.
X-ORIGINAL-URL:https://www.fv-hengersberg.de
X-WR-CALDESC:Veranstaltungen für FV Hengersberg e.V.
REFRESH-INTERVAL;VALUE=DURATION:PT1H
X-Robots-Tag:noindex
X-PUBLISHED-TTL:PT1H
BEGIN:VTIMEZONE
TZID:Europe/Berlin
BEGIN:DAYLIGHT
TZOFFSETFROM:+0100
TZOFFSETTO:+0200
TZNAME:CEST
DTSTART:20230326T010000
END:DAYLIGHT
BEGIN:STANDARD
TZOFFSETFROM:+0200
TZOFFSETTO:+0100
TZNAME:CET
DTSTART:20231029T010000
END:STANDARD
BEGIN:DAYLIGHT
TZOFFSETFROM:+0100
TZOFFSETTO:+0200
TZNAME:CEST
DTSTART:20240331T010000
END:DAYLIGHT
BEGIN:STANDARD
TZOFFSETFROM:+0200
TZOFFSETTO:+0100
TZNAME:CET
DTSTART:20241027T010000
END:STANDARD
BEGIN:DAYLIGHT
TZOFFSETFROM:+0100
TZOFFSETTO:+0200
TZNAME:CEST
DTSTART:20250330T010000
END:DAYLIGHT
BEGIN:STANDARD
TZOFFSETFROM:+0200
TZOFFSETTO:+0100
TZNAME:CET
DTSTART:20251026T010000
END:STANDARD
END:VTIMEZONE
BEGIN:VEVENT
DTSTART;VALUE=DATE:20241216
DTEND;VALUE=DATE:20241217
DTSTAMP:20260422T014744
CREATED:20241020T102341Z
LAST-MODIFIED:20241020T102359Z
UID:4227-1734307200-1734393599@www.fv-hengersberg.de
SUMMARY:Abbuchung Beitrag\, Karten für 2025
DESCRIPTION:Am 16.12.2024 werden die Beiträge\, Karten\, Hegefischen und sonstige offene Gebühren vom angegebenen Konto abgebucht. \nSollte sich die Bankverbindung geändert haben\, bitte dem Kassier (kassier@fv-hengersberg) die geänderten Kontodaten incl. SEPA-Lastschriftmandat zusenden. \nVielen Dank für euere Unterstützung. \nPetri Heil\nFranz Bauer (Kassier)
URL:https://www.fv-hengersberg.de/event/abbuchung-beitrag-karten-fuer-2025/
CATEGORIES:Senioren
ORGANIZER;CN="FV Hengersberg e.V.":MAILTO:trosthape@t-online.de
END:VEVENT
END:VCALENDAR