BEGIN:VCALENDAR
VERSION:2.0
PRODID:-//FV Hengersberg e.V. - ECPv6.15.20//NONSGML v1.0//EN
CALSCALE:GREGORIAN
METHOD:PUBLISH
X-WR-CALNAME:FV Hengersberg e.V.
X-ORIGINAL-URL:https://www.fv-hengersberg.de
X-WR-CALDESC:Veranstaltungen für FV Hengersberg e.V.
REFRESH-INTERVAL;VALUE=DURATION:PT1H
X-Robots-Tag:noindex
X-PUBLISHED-TTL:PT1H
BEGIN:VTIMEZONE
TZID:Europe/Berlin
BEGIN:DAYLIGHT
TZOFFSETFROM:+0100
TZOFFSETTO:+0200
TZNAME:CEST
DTSTART:20220327T010000
END:DAYLIGHT
BEGIN:STANDARD
TZOFFSETFROM:+0200
TZOFFSETTO:+0100
TZNAME:CET
DTSTART:20221030T010000
END:STANDARD
BEGIN:DAYLIGHT
TZOFFSETFROM:+0100
TZOFFSETTO:+0200
TZNAME:CEST
DTSTART:20230326T010000
END:DAYLIGHT
BEGIN:STANDARD
TZOFFSETFROM:+0200
TZOFFSETTO:+0100
TZNAME:CET
DTSTART:20231029T010000
END:STANDARD
BEGIN:DAYLIGHT
TZOFFSETFROM:+0100
TZOFFSETTO:+0200
TZNAME:CEST
DTSTART:20240331T010000
END:DAYLIGHT
BEGIN:STANDARD
TZOFFSETFROM:+0200
TZOFFSETTO:+0100
TZNAME:CET
DTSTART:20241027T010000
END:STANDARD
END:VTIMEZONE
BEGIN:VEVENT
DTSTART;TZID=Europe/Berlin:20230422T123000
DTEND;TZID=Europe/Berlin:20230422T180000
DTSTAMP:20260423T062614
CREATED:20230113T072233Z
LAST-MODIFIED:20230415T050855Z
UID:3041-1682166600-1682186400@www.fv-hengersberg.de
SUMMARY:Terminänderung - Karpfenfischen am Weiher Kugelstadt
DESCRIPTION:Wurde um eine Woche verschoben\nKarpfenfischen am Weiher Kugelstadt \nTreffpunkt: Einfahrt Weg
URL:https://www.fv-hengersberg.de/event/karpfenfischen-am-weiher-kugelstadt/
LOCATION:Weiher Kugelstadt
CATEGORIES:Jugend
END:VEVENT
BEGIN:VEVENT
DTSTART;TZID=Europe/Berlin:20230427T190000
DTEND;TZID=Europe/Berlin:20230427T233000
DTSTAMP:20260423T062614
CREATED:20230418T123016Z
LAST-MODIFIED:20230418T123016Z
UID:3237-1682622000-1682638200@www.fv-hengersberg.de
SUMMARY:Fischereiaufsehertreffen
DESCRIPTION:Die Besprechung der Fischeraufseher für die Saison 2023 findet am 27.04.2023 um 19:00 Uhr im Gasthaus „Zum Bayerischen Wirt“ (ehemals Peterwirt)\, Passauer Str. 24\, Hengersberg statt
URL:https://www.fv-hengersberg.de/event/fischereiaufsehertreffen/
LOCATION:Zum Bayerischen Wirt\, Passauer Str. 24\, Hengersberg\, Bayern\, 94491\, Deutschland
CATEGORIES:Senioren
END:VEVENT
BEGIN:VEVENT
DTSTART;VALUE=DATE:20230429
DTEND;VALUE=DATE:20230502
DTSTAMP:20260423T062614
CREATED:20230113T081737Z
LAST-MODIFIED:20230113T081848Z
UID:3076-1682726400-1682985599@www.fv-hengersberg.de
SUMMARY:Mädchenprojekt 2023
DESCRIPTION:Wo: Fischen in Hauzenberg\, Übernachtung in Passau \nWas: Friedfischen am Weiher \nAnmeldeschluß: 15.03.2023 \nNähere Informationen findet ihr in der Einladung zum Mädchenprojekt 2023 vom Fischereiverband Niederbayern e.V.
URL:https://www.fv-hengersberg.de/event/maedchenprojekt-2023/
CATEGORIES:Jugend
END:VEVENT
END:VCALENDAR