BEGIN:VCALENDAR
VERSION:2.0
PRODID:-//FV Hengersberg e.V. - ECPv6.15.20//NONSGML v1.0//EN
CALSCALE:GREGORIAN
METHOD:PUBLISH
X-ORIGINAL-URL:https://www.fv-hengersberg.de
X-WR-CALDESC:Veranstaltungen für FV Hengersberg e.V.
REFRESH-INTERVAL;VALUE=DURATION:PT1H
X-Robots-Tag:noindex
X-PUBLISHED-TTL:PT1H
BEGIN:VTIMEZONE
TZID:Europe/Berlin
BEGIN:DAYLIGHT
TZOFFSETFROM:+0100
TZOFFSETTO:+0200
TZNAME:CEST
DTSTART:20230326T010000
END:DAYLIGHT
BEGIN:STANDARD
TZOFFSETFROM:+0200
TZOFFSETTO:+0100
TZNAME:CET
DTSTART:20231029T010000
END:STANDARD
BEGIN:DAYLIGHT
TZOFFSETFROM:+0100
TZOFFSETTO:+0200
TZNAME:CEST
DTSTART:20240331T010000
END:DAYLIGHT
BEGIN:STANDARD
TZOFFSETFROM:+0200
TZOFFSETTO:+0100
TZNAME:CET
DTSTART:20241027T010000
END:STANDARD
BEGIN:DAYLIGHT
TZOFFSETFROM:+0100
TZOFFSETTO:+0200
TZNAME:CEST
DTSTART:20250330T010000
END:DAYLIGHT
BEGIN:STANDARD
TZOFFSETFROM:+0200
TZOFFSETTO:+0100
TZNAME:CET
DTSTART:20251026T010000
END:STANDARD
END:VTIMEZONE
BEGIN:VEVENT
DTSTART;TZID=Europe/Berlin:20241012T080000
DTEND;TZID=Europe/Berlin:20241012T170000
DTSTAMP:20260422T033802
CREATED:20240922T151207Z
LAST-MODIFIED:20240922T151539Z
UID:4178-1728720000-1728752400@www.fv-hengersberg.de
SUMMARY:Räumaktion am Weiher Kugelstadt
DESCRIPTION:Räumaktion am Weiher Kugelstadt \nEinsatzleiter: Robert Staudhammer
URL:https://www.fv-hengersberg.de/event/raeumaktion-am-weiher-kugelstadt/
LOCATION:Weiher Kugelstadt
CATEGORIES:Senioren
ORGANIZER;CN="FV Hengersberg e.V.":MAILTO:trosthape@t-online.de
END:VEVENT
BEGIN:VEVENT
DTSTART;TZID=Europe/Berlin:20241019T080000
DTEND;TZID=Europe/Berlin:20241019T170000
DTSTAMP:20260422T033802
CREATED:20240922T151801Z
LAST-MODIFIED:20240922T151828Z
UID:4180-1729324800-1729357200@www.fv-hengersberg.de
SUMMARY:Räumaktion am Röhrl Weiher
DESCRIPTION:Räumaktion am Röhrl Weiher \nEinsatzleiter: Robert Preis
URL:https://www.fv-hengersberg.de/event/raeumaktion-am-roehrl-weiher/
LOCATION:Röhrl Weiher
CATEGORIES:Senioren
ORGANIZER;CN="FV Hengersberg e.V.":MAILTO:trosthape@t-online.de
END:VEVENT
BEGIN:VEVENT
DTSTART;TZID=Europe/Berlin:20241026T190000
DTEND;TZID=Europe/Berlin:20241026T220000
DTSTAMP:20260422T033802
CREATED:20241002T105909Z
LAST-MODIFIED:20241002T112019Z
UID:4185-1729969200-1729980000@www.fv-hengersberg.de
SUMMARY:FV Helferfest und Preisverleihung
DESCRIPTION:Alle Helfer vom Gründungsfest sind herzlich eingeladen. \nLandgasthof Frohnstetten. Unterfrohnstetten 20\, 94491 Hengersberg
URL:https://www.fv-hengersberg.de/event/fv-helferfest-und-preisverleihung/
LOCATION:Landgasthof Frohnstetten\, Unterfrohnstetten 20\, Hengersberg\, 94491\, Deutschland
CATEGORIES:Jugend,Senioren
ORGANIZER;CN="FV Hengersberg e.V.":MAILTO:trosthape@t-online.de
END:VEVENT
END:VCALENDAR