BEGIN:VCALENDAR
VERSION:2.0
PRODID:-//FV Hengersberg e.V. - ECPv6.15.20//NONSGML v1.0//EN
CALSCALE:GREGORIAN
METHOD:PUBLISH
X-WR-CALNAME:FV Hengersberg e.V.
X-ORIGINAL-URL:https://www.fv-hengersberg.de
X-WR-CALDESC:Veranstaltungen für FV Hengersberg e.V.
REFRESH-INTERVAL;VALUE=DURATION:PT1H
X-Robots-Tag:noindex
X-PUBLISHED-TTL:PT1H
BEGIN:VTIMEZONE
TZID:Europe/Berlin
BEGIN:DAYLIGHT
TZOFFSETFROM:+0100
TZOFFSETTO:+0200
TZNAME:CEST
DTSTART:20250330T010000
END:DAYLIGHT
BEGIN:STANDARD
TZOFFSETFROM:+0200
TZOFFSETTO:+0100
TZNAME:CET
DTSTART:20251026T010000
END:STANDARD
BEGIN:DAYLIGHT
TZOFFSETFROM:+0100
TZOFFSETTO:+0200
TZNAME:CEST
DTSTART:20260329T010000
END:DAYLIGHT
BEGIN:STANDARD
TZOFFSETFROM:+0200
TZOFFSETTO:+0100
TZNAME:CET
DTSTART:20261025T010000
END:STANDARD
BEGIN:DAYLIGHT
TZOFFSETFROM:+0100
TZOFFSETTO:+0200
TZNAME:CEST
DTSTART:20270328T010000
END:DAYLIGHT
BEGIN:STANDARD
TZOFFSETFROM:+0200
TZOFFSETTO:+0100
TZNAME:CET
DTSTART:20271031T010000
END:STANDARD
END:VTIMEZONE
BEGIN:VEVENT
DTSTART;TZID=Europe/Berlin:20260705T050000
DTEND;TZID=Europe/Berlin:20260705T100000
DTSTAMP:20260419T221842
CREATED:20220325T151933Z
LAST-MODIFIED:20260410T075834Z
UID:2696-1783227600-1783245600@www.fv-hengersberg.de
SUMMARY:Gemeinschaftsfischen
DESCRIPTION:Das Abwiegen der Fische findet von 10:45 Uhr –  11:45 Uhr an der Fähre Niederalteich statt. \nDie Ehrung des Fischerkönigs und Preisverleihung findet im Rahmen der Vereinsfeier mit Grillfest am Röhrl-Weiher statt. \nPreisverleihung Jugend ab ca. 20:00 Uhr\nPreisverleihung Senioren ab ca. 20:30 Uhr
URL:https://www.fv-hengersberg.de/event/gemeinschaftsfischen/
CATEGORIES:Senioren
END:VEVENT
BEGIN:VEVENT
DTSTART;TZID=Europe/Berlin:20260711T193000
DTEND;TZID=Europe/Berlin:20260711T233000
DTSTAMP:20260419T221842
CREATED:20230113T073404Z
LAST-MODIFIED:20260410T074008Z
UID:3056-1783798200-1783812600@www.fv-hengersberg.de
SUMMARY:Vereinsfeier mit Grillfest (Jugend und Senioren)
DESCRIPTION:Vereinsfeier mit Grillfest für alle Mitglieder \nEhrung der Fischerkönige Jugend und Senioren mit Preisverleihung Hegefischen am Röhrl Weiher \nMitglieder und Jugendliche sowie deren Eltern sind herzlich dazu eingeladen. \nGetränke gibt es gratis\, ein Grill ist vorhanden\, auf diesen kann man sein mitgebrachtes Fleisch grillen. Bitte Besteck\, Teller und Gläser bzw. Krüge mitnehmen.
URL:https://www.fv-hengersberg.de/event/grillfest-jugend-und-senioren/
LOCATION:Röhrl Weiher
CATEGORIES:Jugend,Senioren
END:VEVENT
BEGIN:VEVENT
DTSTART;TZID=Europe/Berlin:20260724T150000
DTEND;TZID=Europe/Berlin:20260726T150000
DTSTAMP:20260419T221842
CREATED:20230113T073607Z
LAST-MODIFIED:20260410T074225Z
UID:3058-1784905200-1785078000@www.fv-hengersberg.de
SUMMARY:Zeltlager am Röhrl Weiher
DESCRIPTION:Fischen und Zelten am Röhrl Weiher \n\n					Mitzubringen ist: Teller\, Besteck\, Zelt\, Schlafsack\, Taschenlampe\, Fischzeug und Köder. Raubfischausrüstung darf auch mitgebracht werden. Verpflegung wird von Verein gestiftet.\n\n					Da in der Vergangenheit festgestellt wurde\, dass einige Jungfischer/Jungfischerinnen schon weit vor Beginn der Veranstaltung vor Ort waren\, wird nochmal darauf hingewiesen: Das der Zeltaufbau erst ab 15:00 Uhr beginnt!\nSiehe Aufsichtspflicht der Eltern
URL:https://www.fv-hengersberg.de/event/fischen-und-zelten-am-roehrl-weiher/
LOCATION:Röhrl Weiher
CATEGORIES:Jugend
END:VEVENT
END:VCALENDAR