BEGIN:VCALENDAR
VERSION:2.0
PRODID:-//FV Hengersberg e.V. - ECPv6.15.20//NONSGML v1.0//EN
CALSCALE:GREGORIAN
METHOD:PUBLISH
X-WR-CALNAME:FV Hengersberg e.V.
X-ORIGINAL-URL:https://www.fv-hengersberg.de
X-WR-CALDESC:Veranstaltungen für FV Hengersberg e.V.
REFRESH-INTERVAL;VALUE=DURATION:PT1H
X-Robots-Tag:noindex
X-PUBLISHED-TTL:PT1H
BEGIN:VTIMEZONE
TZID:Europe/Berlin
BEGIN:DAYLIGHT
TZOFFSETFROM:+0100
TZOFFSETTO:+0200
TZNAME:CEST
DTSTART:20250330T010000
END:DAYLIGHT
BEGIN:STANDARD
TZOFFSETFROM:+0200
TZOFFSETTO:+0100
TZNAME:CET
DTSTART:20251026T010000
END:STANDARD
BEGIN:DAYLIGHT
TZOFFSETFROM:+0100
TZOFFSETTO:+0200
TZNAME:CEST
DTSTART:20260329T010000
END:DAYLIGHT
BEGIN:STANDARD
TZOFFSETFROM:+0200
TZOFFSETTO:+0100
TZNAME:CET
DTSTART:20261025T010000
END:STANDARD
BEGIN:DAYLIGHT
TZOFFSETFROM:+0100
TZOFFSETTO:+0200
TZNAME:CEST
DTSTART:20270328T010000
END:DAYLIGHT
BEGIN:STANDARD
TZOFFSETFROM:+0200
TZOFFSETTO:+0100
TZNAME:CET
DTSTART:20271031T010000
END:STANDARD
END:VTIMEZONE
BEGIN:VEVENT
DTSTART;TZID=Europe/Berlin:20261017T080000
DTEND;TZID=Europe/Berlin:20261017T120000
DTSTAMP:20260420T023636
CREATED:20230113T074257Z
LAST-MODIFIED:20260410T074516Z
UID:3067-1792224000-1792238400@www.fv-hengersberg.de
SUMMARY:Räumaktion am Socol Weiher
DESCRIPTION:Räumaktion am Socol Weiher und Weiher am Säckergraben mit Brotzeit und davor und danch Raubfischen (geeignete Angelausrüstung nicht vergessen)\nTreffpunkt: Infotafel am Socol-Weiher
URL:https://www.fv-hengersberg.de/event/raeumaktion-am-socol-weiher-2/
LOCATION:Socol Weiher
CATEGORIES:Jugend
END:VEVENT
BEGIN:VEVENT
DTSTART;TZID=Europe/Berlin:20261017T193000
DTEND;TZID=Europe/Berlin:20261017T230000
DTSTAMP:20260420T023636
CREATED:20260410T075038Z
LAST-MODIFIED:20260410T075038Z
UID:5216-1792265400-1792278000@www.fv-hengersberg.de
SUMMARY:Herbstversammlung
DESCRIPTION:Die Herbstversammlung findet wieder im Landgasthof Frohnstetten\, Unterfrohnstetten 20\, 94491 Hengersberg statt\nBeginn 19:30 Uhr \nTagesordnungspunkte folgen.
URL:https://www.fv-hengersberg.de/event/herbstversammlung/
CATEGORIES:Senioren
END:VEVENT
END:VCALENDAR